BEGIN:VCALENDAR
VERSION:2.0
PRODID:-//Základní škola a Mateřská škola Zadní Třebaň - ECPv6.15.2//NONSGML v1.0//EN
CALSCALE:GREGORIAN
METHOD:PUBLISH
X-WR-CALNAME:Základní škola a Mateřská škola Zadní Třebaň
X-ORIGINAL-URL:https://skola-zadnitreban.cz
X-WR-CALDESC:Akce na Základní škola a Mateřská škola Zadní Třebaň
REFRESH-INTERVAL;VALUE=DURATION:PT1H
X-Robots-Tag:noindex
X-PUBLISHED-TTL:PT1H
BEGIN:VTIMEZONE
TZID:Europe/Paris
BEGIN:DAYLIGHT
TZOFFSETFROM:+0100
TZOFFSETTO:+0200
TZNAME:CEST
DTSTART:20240331T010000
END:DAYLIGHT
BEGIN:STANDARD
TZOFFSETFROM:+0200
TZOFFSETTO:+0100
TZNAME:CET
DTSTART:20241027T010000
END:STANDARD
BEGIN:DAYLIGHT
TZOFFSETFROM:+0100
TZOFFSETTO:+0200
TZNAME:CEST
DTSTART:20250330T010000
END:DAYLIGHT
BEGIN:STANDARD
TZOFFSETFROM:+0200
TZOFFSETTO:+0100
TZNAME:CET
DTSTART:20251026T010000
END:STANDARD
END:VTIMEZONE
BEGIN:VEVENT
DTSTART;TZID=Europe/Paris:20250221T080000
DTEND;TZID=Europe/Paris:20250221T120000
DTSTAMP:20260420T050105
CREATED:20250129T103958Z
LAST-MODIFIED:20250129T103958Z
UID:6692-1740124800-1740139200@skola-zadnitreban.cz
SUMMARY:Muzeum Policie České republiky
DESCRIPTION:Žáci 4. a 5. ročníku se vydají na návštěvu do Muzea Policie České republiky. \nS sebou: velkou svačinu\, zpáteční lístek ZT – Praha (Hl. n.) – ZT (jízdné po Praze mají děti do 15 let zdarma\, je nutné mít průkaz totožnosti). \nVstupné je zdarma
URL:https://skola-zadnitreban.cz/akce/muzeum-policie-ceske-republiky/
LOCATION:Muzeum Policie ČR\, Ke Karlovu 453/1\, Praha 2\, 120 00\, Czech Republic
CATEGORIES:Akce,Event
ATTACH;FMTTYPE=image/jpeg:https://skola-zadnitreban.cz/wp-content/uploads/2025/01/policejni-muzeum.jpg
END:VEVENT
BEGIN:VEVENT
DTSTART;TZID=Europe/Paris:20241220T080000
DTEND;TZID=Europe/Paris:20241220T120000
DTSTAMP:20260420T050105
CREATED:20241007T120401Z
LAST-MODIFIED:20241007T120704Z
UID:6119-1734681600-1734696000@skola-zadnitreban.cz
SUMMARY:Štědrý den v MŠ
DESCRIPTION:Štědrý den v MŠ
URL:https://skola-zadnitreban.cz/akce/stedry-den-v-ms/
LOCATION:Škola\, Školní 219\, Zadní Třebaň\, Česká republika
CATEGORIES:Akce,Event
ATTACH;FMTTYPE=image/jpeg:https://skola-zadnitreban.cz/wp-content/uploads/2024/10/vanocni-stromek.jpeg
END:VEVENT
BEGIN:VEVENT
DTSTART;TZID=Europe/Paris:20241219T170000
DTEND;TZID=Europe/Paris:20241219T190000
DTSTAMP:20260420T050105
CREATED:20240916T154816Z
LAST-MODIFIED:20240916T154836Z
UID:5921-1734627600-1734634800@skola-zadnitreban.cz
SUMMARY:Vánoční besídka
DESCRIPTION:Vánoční besídka dětí MŠ a žáků ZŠ ve Společenském domě v Zadní Třebani.
URL:https://skola-zadnitreban.cz/akce/vanocni-besidka-2/
LOCATION:Společenský dům\, Zadní Třebaň\, Na Návsi 4\, Zadní Třebaň\, Středočeský\, 26729\, Česká republika
CATEGORIES:Akce,Event
ATTACH;FMTTYPE=image/jpeg:https://skola-zadnitreban.cz/wp-content/uploads/2023/12/BP5A8616-scaled.jpg
END:VEVENT
BEGIN:VEVENT
DTSTART;TZID=Europe/Paris:20241216T100000
DTEND;TZID=Europe/Paris:20241216T110000
DTSTAMP:20260420T050105
CREATED:20241125T080659Z
LAST-MODIFIED:20241216T064509Z
UID:6345-1734343200-1734346800@skola-zadnitreban.cz
SUMMARY:ZRUŠENO - Beseda v knihovně Liteň - 1. a 2. roč
DESCRIPTION:Beseda se spisovatelkou Petrou Martiškovou o vánočních zvycích a tradicích s čerticí Lili \nPovídání o tom\, jak vzniká knížka\, jak se tvoří ilustrace\, putování s nezbednou čerticí Lili\, vyprávění o knize\, povídání o vánočních zvycích u nás i ve světě\, autorské čtení z knihy\, pro každého malého účastníka pracovní list\, malá tvořivá vánoční dílnička. \nS žáky pojedeme vlakem s odjezdem 9:45 ze Zadní Třebaně. Všichni žáci budou mít 100\,- Kč na besedu + zpáteční lístek Zadní Třebaň – Liteň.
URL:https://skola-zadnitreban.cz/akce/beseda-v-knihovne-liten-1-a-2-roc/
LOCATION:Knihovna Liten\, Nádražní 401\, Liteň\, 267 27\, Czech Republic
CATEGORIES:Akce,Event
ATTACH;FMTTYPE=image/jpeg:https://skola-zadnitreban.cz/wp-content/uploads/2023/03/knihovna-678x381-1.jpg
END:VEVENT
BEGIN:VEVENT
DTSTART;TZID=Europe/Paris:20241213T090000
DTEND;TZID=Europe/Paris:20241213T120000
DTSTAMP:20260420T050105
CREATED:20241125T075715Z
LAST-MODIFIED:20241125T075745Z
UID:6342-1734080400-1734091200@skola-zadnitreban.cz
SUMMARY:Dopravní výchova 3. - 5. ročník
DESCRIPTION:Dopolední teoretická část Dopravní výchovy pro žáky 3.\, 4. a 5. ročníku\, která bude vedena panem Kvasničkou z Autoškoly Zavadilka.
URL:https://skola-zadnitreban.cz/akce/dopravni-vychova-3-5-roc/
LOCATION:Škola\, Školní 219\, Zadní Třebaň\, Česká republika
CATEGORIES:Akce,Event
ATTACH;FMTTYPE=image/jpeg:https://skola-zadnitreban.cz/wp-content/uploads/2024/01/dopravni-vychova.jpeg
END:VEVENT
BEGIN:VEVENT
DTSTART;TZID=Europe/Paris:20241212T090000
DTEND;TZID=Europe/Paris:20241212T130000
DTSTAMP:20260420T050105
CREATED:20241120T074012Z
LAST-MODIFIED:20241120T074012Z
UID:6324-1733994000-1734008400@skola-zadnitreban.cz
SUMMARY:ČEPS Cup florbal
DESCRIPTION:S vybranými žáky se zúčastníme florbalového poháru základních škol. Přihlášené máme 1 chlapecké družstvo. Akce se bude konat v Berouně v čase cca 9 – 13 hod (bude upřesněno po obdržení časového harmonogramu a rozpisu od pořadatele). \n\nO projektu \nČEPS a Český florbal společně již několik let pojí partnerství u školských projektů a 5 let titulárního partnerství s pohárem pro základní školy. Klíčovým cílem ČEPS Cupu je přivedení či podpora školních dětí k pohybu a s tím spojené pozitivní zážitky skrze organizaci celého projektu. ​\nProjekt je postaven pro první stupeň základních škol a ročně je do něj zapojeno až přes tisíc školních družstev. Školy ve florbale nereprezentují pouze florbalisté\, ale často děti\, které nejsou registrované ve sportu či provozují i další sporty. ​\nCílem je přinášet dětem zážitky spojené se sportovní reprezentací vlastní školy a postupovat pavoukem projektu od okresních kol až do republikového finále. Finálové turnaje ČEPS Cupu se obecně odehrávají před konáním Superfinále florbalu a nejúspěšnější školní týmy tak mají šanci podívat se na tuto výjimečnou sportovní akci. \nFlorbal je moderním fenoménem. Z hlediska mládežnické základny se stal po fotbale druhým nejpopulárnějším sportem v České republice a sportem číslo jedna v českých školách. Mohou ho hrát jak chlapci\, tak děvčata. I vy u toho nyní můžete být! ČEPS cup začíná na okresní úrovni. Z ní postupují ti nejúspěšnější do Krajského finále. Nejlepších 16 týmů v kategorii chlapců a 16 v kategorii dívek se pak utká na Finálovém turnaji o republikový primát. Vítězné týmy také získají vstupenky a možnost tak zažít atmosféru největší florbalové akce BigBoard Superfinále přímo v O2 areně. \nKaždá základní škola v České republice může přihlásit do turnaje jeden dívčí a jeden chlapecký tým.  Protože ale nejde pouze o sportovní akci\, nýbrž o celospolečenskou událost\, v rolích fotografů\, roztleskávaček\, maskotů a dalších se mohou představit i nehrající studenti.
URL:https://skola-zadnitreban.cz/akce/ceps-cup-florbal/
LOCATION:Beroun\, Česká republika
CATEGORIES:Akce,Event
ATTACH;FMTTYPE=image/png:https://skola-zadnitreban.cz/wp-content/uploads/2024/11/ceps-cup-logo.png
END:VEVENT
BEGIN:VEVENT
DTSTART;TZID=Europe/Paris:20241210T080000
DTEND;TZID=Europe/Paris:20241210T110000
DTSTAMP:20260420T050105
CREATED:20241125T074532Z
LAST-MODIFIED:20241125T074558Z
UID:6340-1733817600-1733828400@skola-zadnitreban.cz
SUMMARY:Zdobení perníčků MŠ
DESCRIPTION:
URL:https://skola-zadnitreban.cz/akce/zdobeni-pernicku-ms/
LOCATION:Škola\, Školní 219\, Zadní Třebaň\, Česká republika
CATEGORIES:Akce,Event
ATTACH;FMTTYPE=image/avif:https://skola-zadnitreban.cz/wp-content/uploads/2024/11/pernicky.avif
END:VEVENT
BEGIN:VEVENT
DTSTART;TZID=Europe/Paris:20241209T080000
DTEND;TZID=Europe/Paris:20241209T110000
DTSTAMP:20260420T050105
CREATED:20241125T074430Z
LAST-MODIFIED:20241125T074430Z
UID:6337-1733731200-1733742000@skola-zadnitreban.cz
SUMMARY:Pečení perníčků MŠ
DESCRIPTION:
URL:https://skola-zadnitreban.cz/akce/peceni-pernicku-ms/
LOCATION:Škola\, Školní 219\, Zadní Třebaň\, Česká republika
CATEGORIES:Akce,Event
ATTACH;FMTTYPE=image/avif:https://skola-zadnitreban.cz/wp-content/uploads/2024/11/pernicky.avif
END:VEVENT
BEGIN:VEVENT
DTSTART;TZID=Europe/Paris:20241206T083000
DTEND;TZID=Europe/Paris:20241206T103000
DTSTAMP:20260420T050105
CREATED:20241007T112421Z
LAST-MODIFIED:20241115T135711Z
UID:6100-1733473800-1733481000@skola-zadnitreban.cz
SUMMARY:Keramika MŠ - 2. skupina
DESCRIPTION:Keramika – 2. skupina – glazování
URL:https://skola-zadnitreban.cz/akce/keramika-ms-1-skupina/
CATEGORIES:Akce,Event
ATTACH;FMTTYPE=image/jpeg:https://skola-zadnitreban.cz/wp-content/uploads/2022/11/keramika.jpg
END:VEVENT
BEGIN:VEVENT
DTSTART;TZID=Europe/Paris:20241205T080000
DTEND;TZID=Europe/Paris:20241205T093000
DTSTAMP:20260420T050105
CREATED:20241007T115818Z
LAST-MODIFIED:20241007T115911Z
UID:6117-1733385600-1733391000@skola-zadnitreban.cz
SUMMARY:Mikulášská nadílka MŠ
DESCRIPTION:Mikulášská nadílka MŠ
URL:https://skola-zadnitreban.cz/akce/mikulasska-nadilka-ms/
LOCATION:Škola\, Školní 219\, Zadní Třebaň\, Česká republika
CATEGORIES:Akce,Event
ATTACH;FMTTYPE=image/jpeg:https://skola-zadnitreban.cz/wp-content/uploads/2022/11/531c0ad70ca8a4047844ef50e68daf3e_mikulas-cert-a-andel.jpg
END:VEVENT
BEGIN:VEVENT
DTSTART;TZID=Europe/Paris:20241201T163000
DTEND;TZID=Europe/Paris:20241201T170000
DTSTAMP:20260420T050105
CREATED:20241125T071052Z
LAST-MODIFIED:20241125T071145Z
UID:6331-1733070600-1733072400@skola-zadnitreban.cz
SUMMARY:Rozsvícení vánočního stromečku
DESCRIPTION:Děti z naší mateřské školy a žáci školní družiny vystupují s krátkým představením na akci rozsvícení vánočního stromu na návsi v Zadní Třebani. Naše škola a školka vystoupí kolem 16:30 hod. Budeme rádi\, když se na nás přijdete podívat a společně tak zahájíme čas adventu.
URL:https://skola-zadnitreban.cz/akce/rozsviceni-vanocniho-stromecku/
LOCATION:Zadní Třebaň\, Na Návsi\, Zadní Třebaň\, Česká republika
CATEGORIES:Akce,Event
ATTACH;FMTTYPE=image/jpeg:https://skola-zadnitreban.cz/wp-content/uploads/2024/10/vanocni-stromek.jpeg
END:VEVENT
BEGIN:VEVENT
DTSTART;TZID=Europe/Paris:20241129T080000
DTEND;TZID=Europe/Paris:20241129T093000
DTSTAMP:20260420T050105
CREATED:20241007T115602Z
LAST-MODIFIED:20241115T135546Z
UID:6112-1732867200-1732872600@skola-zadnitreban.cz
SUMMARY:Keramika MŠ - 1. skupina
DESCRIPTION:Keramika – glazování 1. skupina
URL:https://skola-zadnitreban.cz/akce/keramika-1-skupina/
CATEGORIES:Akce,Event
ATTACH;FMTTYPE=image/jpeg:https://skola-zadnitreban.cz/wp-content/uploads/2022/11/keramika.jpg
END:VEVENT
BEGIN:VEVENT
DTSTART;TZID=Europe/Paris:20241126T080000
DTEND;TZID=Europe/Paris:20241126T103000
DTSTAMP:20260420T050105
CREATED:20241007T115728Z
LAST-MODIFIED:20241115T135513Z
UID:6115-1732608000-1732617000@skola-zadnitreban.cz
SUMMARY:Keramika MŠ - 2. skupina
DESCRIPTION:Keramika – 2. skupina výroba
URL:https://skola-zadnitreban.cz/akce/keramika-ms-2-skupina-2/
CATEGORIES:Akce,Event
ATTACH;FMTTYPE=image/jpeg:https://skola-zadnitreban.cz/wp-content/uploads/2022/11/keramika.jpg
END:VEVENT
BEGIN:VEVENT
DTSTART;TZID=Europe/Paris:20241122T090000
DTEND;TZID=Europe/Paris:20241122T110000
DTSTAMP:20260420T050105
CREATED:20241007T114930Z
LAST-MODIFIED:20241007T115438Z
UID:6107-1732266000-1732273200@skola-zadnitreban.cz
SUMMARY:Beseda s M. Fišarovou - MŠ + 1. roč
DESCRIPTION:Beseda se spisovatelkou Michaelou Fišarovou
URL:https://skola-zadnitreban.cz/akce/beseda-s-m-fisarovou/
LOCATION:Škola\, Školní 219\, Zadní Třebaň\, Česká republika
CATEGORIES:Akce,Event
ATTACH;FMTTYPE=image/jpeg:https://skola-zadnitreban.cz/wp-content/uploads/2024/10/fisarova.jpg
END:VEVENT
BEGIN:VEVENT
DTSTART;TZID=Europe/Paris:20241113T100000
DTEND;TZID=Europe/Paris:20241113T110000
DTSTAMP:20260420T050105
CREATED:20240929T071652Z
LAST-MODIFIED:20240929T071652Z
UID:6036-1731492000-1731495600@skola-zadnitreban.cz
SUMMARY:Bruslení ZŠ
DESCRIPTION:V rámci hodin tělesné výchovy proběhnou do konce kalendářního roku 3 lekce bruslení a to vždy ve středu 2. 10.\, 16. 10. a 13. 11. 2024  na zimním stadionu v Černošicích. \nLekce probíhá od 10:00 do 11:00 h\, pojedeme vlakem ze ZT v 9:00\, odjezd z Černošic 11:38 h. Žáci mají na tento den odhlášenou svačinu.
URL:https://skola-zadnitreban.cz/akce/brusleni-zs-6/
LOCATION:Černošice
CATEGORIES:Akce,Event
ATTACH;FMTTYPE=image/webp:https://skola-zadnitreban.cz/wp-content/uploads/2023/01/brusleni-e1676887093548.webp
END:VEVENT
BEGIN:VEVENT
DTSTART;TZID=Europe/Paris:20241031T080000
DTEND;TZID=Europe/Paris:20241031T113000
DTSTAMP:20260420T050105
CREATED:20241007T111836Z
LAST-MODIFIED:20241007T134437Z
UID:6096-1730361600-1730374200@skola-zadnitreban.cz
SUMMARY:Halloweenské dopoledne - ZŠ a MŠ
DESCRIPTION:Mateřská škola – se děti mohou těšit na Halloweenské dopoledne v mateřské škole – děti mohou přijít ve strašidelných kostýmech a těšit se na spoustu her\, soutěží\, čar a kouzel. \nZákladní škola – dopolední výuka bude ve znamení projektů\, které budou tématicky věnované svátku Všech svatých a Památce zesnulých. Podpořte prosím tuto akci tím\, že vaše dítě přijde tento den do školy v tematickém kostýmu  (Halloween\, Día de los muertos).
URL:https://skola-zadnitreban.cz/akce/halloweenske-dopoledne/
CATEGORIES:Akce,Event
ATTACH;FMTTYPE=image/jpeg:https://skola-zadnitreban.cz/wp-content/uploads/2024/10/dyne.jpg
END:VEVENT
BEGIN:VEVENT
DTSTART;TZID=Europe/Paris:20241023T130000
DTEND;TZID=Europe/Paris:20241023T150000
DTSTAMP:20260420T050105
CREATED:20241015T071434Z
LAST-MODIFIED:20241015T071434Z
UID:6184-1729688400-1729695600@skola-zadnitreban.cz
SUMMARY:Halloweenské odpoledne v 1.oddělení družiny
DESCRIPTION:Odpoledne plné her. Děti si mohou přinést vlastní kostým. \nBude i drobné občerstvení.
URL:https://skola-zadnitreban.cz/akce/halloweenske-odpoledne-v-1-oddeleni-druziny/
CATEGORIES:Akce,Event
ATTACH;FMTTYPE=image/png:https://skola-zadnitreban.cz/wp-content/uploads/2024/10/halloween.png
END:VEVENT
BEGIN:VEVENT
DTSTART;TZID=Europe/Paris:20241018T080000
DTEND;TZID=Europe/Paris:20241018T113000
DTSTAMP:20260420T050105
CREATED:20241007T105546Z
LAST-MODIFIED:20241007T110034Z
UID:6091-1729238400-1729251000@skola-zadnitreban.cz
SUMMARY:Vánoční fotografování - MŠ
DESCRIPTION:V pátek 18. 10. 2024 dopoledne proběhne v mateřské škole vánoční fotografování. Svůj závazný zájem hlaste v mateřské škole.
URL:https://skola-zadnitreban.cz/akce/vanocni-fotografovani-ms-2/
LOCATION:Škola\, Školní 219\, Zadní Třebaň\, Česká republika
CATEGORIES:Akce,Event
ATTACH;FMTTYPE=image/jpeg:https://skola-zadnitreban.cz/wp-content/uploads/2022/09/fotograf-ikona-e1662993631426.jpg
END:VEVENT
BEGIN:VEVENT
DTSTART;TZID=Europe/Paris:20241016T100000
DTEND;TZID=Europe/Paris:20241016T110000
DTSTAMP:20260420T050105
CREATED:20240929T071556Z
LAST-MODIFIED:20240929T071556Z
UID:6034-1729072800-1729076400@skola-zadnitreban.cz
SUMMARY:Bruslení ZŠ
DESCRIPTION:V rámci hodin tělesné výchovy proběhnou do konce kalendářního roku 3 lekce bruslení a to vždy ve středu 2. 10.\, 16. 10. a 13. 11. 2024  na zimním stadionu v Černošicích. \nLekce probíhá od 10:00 do 11:00 h\, pojedeme vlakem ze ZT v 9:00\, odjezd z Černošic 11:38 h. Žáci mají na tento den odhlášenou svačinu.
URL:https://skola-zadnitreban.cz/akce/brusleni-zs-5/
LOCATION:Černošice
CATEGORIES:Akce,Event
ATTACH;FMTTYPE=image/webp:https://skola-zadnitreban.cz/wp-content/uploads/2023/01/brusleni-e1676887093548.webp
END:VEVENT
BEGIN:VEVENT
DTSTART;TZID=Europe/Paris:20241015T090000
DTEND;TZID=Europe/Paris:20241015T120000
DTSTAMP:20260420T050105
CREATED:20241001T081759Z
LAST-MODIFIED:20241001T081759Z
UID:6043-1728982800-1728993600@skola-zadnitreban.cz
SUMMARY:Klíč ke čtenářskému deníku - 2. + 3. roč
DESCRIPTION:„Klíč ke čtenářskému deníku“ \nEdukační program je zaměřen na rozvoj čtenářské gramotnosti. Žáci se seznámí s krátkým uceleným textem současné tvorby pro děti z fondu Sukovy studijní knihovny\, přiměřeným věku a čtenářské úrovni. Po společné četbě žáci rekapitulují obsah textu\, rozlišují podstatné a okrajové informace. Pracovní list v podobě čtenářského deníku\, který dostanou v knihovně k dispozici\, jim napomáhá zaznamenat čtenářský zážitek a příběh reprodukovat. Čtenářský deník je koncipován tak\, aby podněcoval tvořivé myšlení a logické uvažování. \nDélka programu: 90 minut \nVýstupy:  Žák na základě pozitivního čtenářského zážitku rozvíjí své kompetence k učení a kompetence komunikativní\, žák získává pozitivní vztah k aktivní četbě\, učí se přečtený text analyzovat a kreativně reprodukovat. \nCena programu – 20\,- Kč na žáka – v ceně je pracovní list do čtenářského deníku
URL:https://skola-zadnitreban.cz/akce/klic-ke-ctenarskemu-deniku-2-3-roc/
LOCATION:Národní pedagogické muzeum a knihovna J. A. Komenského\, Jeruzalémská 12\, Praha 1\, Česká republika
CATEGORIES:Akce,Event
ATTACH;FMTTYPE=image/jpeg:https://skola-zadnitreban.cz/wp-content/uploads/2024/05/j_a_komensky.jpeg
END:VEVENT
BEGIN:VEVENT
DTSTART;TZID=Europe/Paris:20241009T090000
DTEND;TZID=Europe/Paris:20241009T123000
DTSTAMP:20260420T050105
CREATED:20241004T104128Z
LAST-MODIFIED:20241004T104314Z
UID:6063-1728464400-1728477000@skola-zadnitreban.cz
SUMMARY:Údolí Berounky jako učebnice geologie - 3. - 5. roč
DESCRIPTION:Naučte se pod vedením muzejního geologa rozpoznávat vznik hornin a skalních útvarů\, určit jejich vzájemné stáří a pátrejte přímo v terénu po důkazech existence pradávného moře i následné srážky světadílů. Podle svých pozorování a objevů zkamenělin nakreslíte obrázkovou rekonstrukci původního prostředí i pradávných organismů. \nGeologická exkurze vedená od okraje Berouna cca 1\,5 km podél toku řeky Berounky. Geolog přiblíží\, jak lze ze skal a kamenů získat informace o pradávné minulosti Země (projevy základních geologických procesů). Účastníci uvidí vzorky typických hornin a zkamenělin. Budou rozpoznávat sopečné a usazené skalní útvary\, řešit vzájemné stáří hornin (podloží a nadloží) a pátrat po dokladech moře i proběhlého vrásnění. Na závěr budou zakreslovat svá pozorování do obrázkové rekonstrukce. Mohou si rovněž pořizovat fotografické důkazy a ve škole si připravit prezentaci včetně například mapových zákresů dokumentovaných míst. \nCena za exkurzi bude hrazena školou. Jízdné Zadní Třebaň – Beroun – Zadní Třebaň si hradí žáci sami.
URL:https://skola-zadnitreban.cz/akce/udoli-berounky-jako-ucebnice-geologie-3-5-roc/
LOCATION:Beroun\, Česká republika
CATEGORIES:Akce,Event
ATTACH;FMTTYPE=image/jpeg:https://skola-zadnitreban.cz/wp-content/uploads/2024/10/udoli-Berounky-jako-ucebnice-geologie-11-sm.jpg
END:VEVENT
BEGIN:VEVENT
DTSTART;TZID=Europe/Paris:20241009T072000
DTEND;TZID=Europe/Paris:20241009T103000
DTSTAMP:20260420T050105
CREATED:20241007T105359Z
LAST-MODIFIED:20241007T110438Z
UID:6089-1728458400-1728469800@skola-zadnitreban.cz
SUMMARY:Motýlí dům - MŠ
DESCRIPTION:Ve středu nás čeká výlet do Karlštejna\, kde navštívíme Motýlí dům. Pojedeme vlakem v 07:53 hod. ze Zadní Třebaně. Sraz dětí bude do 07:20 hod. v mateřské škole nebo do 07:40 hod. na nádraží. \nDětem s sebou dejte batůžek s pitím a pláštěnkou\, případně malou drobnost k zakousnutí. Svačina bude zajištěna ze ŠJ. Předpokládaný návrat je před obědem.
URL:https://skola-zadnitreban.cz/akce/motyli-dum-ms/
LOCATION:Karlštejn
CATEGORIES:Akce,Event
ATTACH;FMTTYPE=image/jpeg:https://skola-zadnitreban.cz/wp-content/uploads/2023/11/WhatsApp-Image-2023-10-29-at-13.14.39-1-e1728298422985.jpeg
END:VEVENT
BEGIN:VEVENT
DTSTART;TZID=Europe/Paris:20241002T100000
DTEND;TZID=Europe/Paris:20241002T110000
DTSTAMP:20260420T050105
CREATED:20240929T071432Z
LAST-MODIFIED:20240929T071453Z
UID:6032-1727863200-1727866800@skola-zadnitreban.cz
SUMMARY:Bruslení ZŠ
DESCRIPTION:V rámci hodin tělesné výchovy proběhnou do konce kalendářního roku 3 lekce bruslení a to vždy ve středu 2. 10.\, 16. 10. a 13. 11. 2024  na zimním stadionu v Černošicích. \nLekce probíhá od 10:00 do 11:00 h\, pojedeme vlakem ze ZT v 9:00\, odjezd z Černošic 11:38h. Žáci mají na tento den odhlášenou svačinu.
URL:https://skola-zadnitreban.cz/akce/brusleni-zs-4/
LOCATION:Černošice
CATEGORIES:Akce,Event
ATTACH;FMTTYPE=image/webp:https://skola-zadnitreban.cz/wp-content/uploads/2023/01/brusleni-e1676887093548.webp
END:VEVENT
BEGIN:VEVENT
DTSTART;TZID=Europe/Paris:20240930T083000
DTEND;TZID=Europe/Paris:20240930T113000
DTSTAMP:20260420T050105
CREATED:20240909T111425Z
LAST-MODIFIED:20240909T111712Z
UID:5850-1727685000-1727695800@skola-zadnitreban.cz
SUMMARY:Dýňová farma
DESCRIPTION:Výlet autobusem na dýňovou farmu – s dětmi si vyrobíme dýni\, projdeme kukuřičné bludiště a svezeme se traktůrkem. Akce je určena pro děti z MŠ + 1. ročník ZŠ.
URL:https://skola-zadnitreban.cz/akce/dynova-farma/
LOCATION:Bykoš\, Bykoš 8\, Bykoš\, Středočeský\, 267 01\, Česká republika
CATEGORIES:Akce,Event
ATTACH;FMTTYPE=image/jpeg:https://skola-zadnitreban.cz/wp-content/uploads/2024/09/dynova-farma-e1725880458896.jpg
END:VEVENT
BEGIN:VEVENT
DTSTART;TZID=Europe/Paris:20240925T053000
DTEND;TZID=Europe/Paris:20240927T170000
DTSTAMP:20260420T050105
CREATED:20240826T085211Z
LAST-MODIFIED:20240924T083403Z
UID:5793-1727242200-1727456400@skola-zadnitreban.cz
SUMMARY:Adaptační kurz
DESCRIPTION:Čas srazu: 7:45 hod \nMísto: hasičárna v Zadní Třebani \nNa místo odjezdu prosím přineste prohlášení o bezinfekčnosti (prosím uvádějte jako datum podpisu datum odjezdu na Adaptační kurz)\, Užívání léků a alergií a Plná moc k ošetření. Všechny dokumenty vám byly poslány emailem v předstihu. \nDěti budou mít na cestu autobuse batůžek se svačinou na celý den (ideálně rozdělené na svačinu – oběd – svačinu) – pobyt začíná večeří. Dále prosíme\, aby děti měly 2x 0\,5l pití.  \nPrvní den začíná výletem – děti vystoupí z abutobusu v Železné Rudě (za každého počasí) – půjdeme cca 6 km. Přizpůsobte prosím vybavení a obuv již na cestu do busu.  \nCílem adaptačního kurzu je poznat nové spolužáky a učitele\, naučit se spolupracovat s ostatními\, stmelit kolektiv a aktivně prožít několik dní v krásné přírodě.
URL:https://skola-zadnitreban.cz/akce/adaptacni-kurz-3/
LOCATION:Zelená Lhota 57\, 340 22 Nýrsko\, Zelená Lhota 57\, Nýrsko\, 340 22\, Česká republika
CATEGORIES:Akce,Event
ATTACH;FMTTYPE=image/jpeg:https://skola-zadnitreban.cz/wp-content/uploads/2022/11/Adaptak-foto-1176x560-1.jpg
END:VEVENT
BEGIN:VEVENT
DTSTART;TZID=Europe/Paris:20240912T170000
DTEND;TZID=Europe/Paris:20240912T183000
DTSTAMP:20260420T050105
CREATED:20240826T084905Z
LAST-MODIFIED:20240826T084905Z
UID:5791-1726160400-1726165800@skola-zadnitreban.cz
SUMMARY:Třídní schůzky
DESCRIPTION:Třídní schůzky všech ročníků budou zahájeny frontálně ve II. třídě\, poté proběhnou v kmenových učebnách.
URL:https://skola-zadnitreban.cz/akce/tridni-schuzky-3/
CATEGORIES:Akce,Event
ATTACH;FMTTYPE=image/jpeg:https://skola-zadnitreban.cz/wp-content/uploads/2023/04/tridni-schuzky.jpg
END:VEVENT
BEGIN:VEVENT
DTSTART;TZID=Europe/Paris:20240912T074500
DTEND;TZID=Europe/Paris:20240912T123000
DTSTAMP:20260420T050105
CREATED:20240830T142102Z
LAST-MODIFIED:20240909T065335Z
UID:5824-1726127100-1726144200@skola-zadnitreban.cz
SUMMARY:Interiéry Pražského Hradu - 3. - 5. roč
DESCRIPTION:V rámci hodin vlastivědy/prvouky pojedeme s žáky 3. – 5. ročníku do Prahy na komentovanou prohlídku interiérů Pražského hradu. Prohlídka zahrnuje návštěvu čtyř objektů (Katedrálu sv. Víta\, Václava a Vojtěcha\, Baziliku sv. Jiří\, Starý královský palác s Vladislavským sálem a Zlatou ulička s věží Daliborkou). \nŽákům bude odhlášena svačina\, do školy se vracíme na oběd. \nSraz je v 7:45 na vlakovém nádraží v ZT\, žáci\, kteří chodí do ranní družiny půjdou ze školy na nádraží s paní učitelkou. \nOdjezd: vlakem v 8:00 ze ZT směr Praha \nPříjezd: vlakem 12:22 z Prahy\, všichni jdeme do školy na oběd. \nVšichni budou mít 2 lístky na vlak a jízdu po Praze.
URL:https://skola-zadnitreban.cz/akce/interiery-prazskeho-hradu/
LOCATION:Pražský Hrad
CATEGORIES:Akce,Event
ATTACH;FMTTYPE=image/jpeg:https://skola-zadnitreban.cz/wp-content/uploads/2024/08/Prazsky_hrad.jpg
END:VEVENT
BEGIN:VEVENT
DTSTART;TZID=Europe/Paris:20240626T160000
DTEND;TZID=Europe/Paris:20240626T183000
DTSTAMP:20260420T050105
CREATED:20240116T151058Z
LAST-MODIFIED:20240624T131310Z
UID:4790-1719417600-1719426600@skola-zadnitreban.cz
SUMMARY:Zahradní slavnost
DESCRIPTION:Srdečně Vás zveme na tradiční ZAHRADNÍ SLAVNOST k příležitosti konce školního roku\, která se bude konat ve středu 26. 6. 2024 od 16:00 hod. na školní zahradě. \nOd 16:00 hod. do 18:00 hod. bude následující program školy: \n\nvystoupení dětí z MŠ\,\nslavnostní vyřazování předškoláků\,\npasování prvňáčků na čtenáře\,\nslavnostní loučení s páťáky\,\nČeská beseda.\n\nBudeme rádi\, když přispějete k dobré náladě drobným občerstvením 😊
URL:https://skola-zadnitreban.cz/akce/zahradni-slavnost-2/
LOCATION:Škola\, Školní 219\, Zadní Třebaň\, Česká republika
CATEGORIES:Akce,Event
ATTACH;FMTTYPE=image/jpeg:https://skola-zadnitreban.cz/wp-content/uploads/2023/09/BP5A6006-scaled.jpg
END:VEVENT
BEGIN:VEVENT
DTSTART;TZID=Europe/Paris:20240620T112000
DTEND;TZID=Europe/Paris:20240620T125000
DTSTAMP:20260420T050105
CREATED:20240426T081758Z
LAST-MODIFIED:20240531T071435Z
UID:5257-1718882400-1718887800@skola-zadnitreban.cz
SUMMARY:Plavání ZŠ
DESCRIPTION:Plavecký výcvik je v rámci tělesné výchovy povinný pro žáky 1. až 3. ročníku a koná se v bazénu v Berouně. \nPro žáky 4.a 5. ročníku není plavecký výcvik povinný. Žáci\, kteří nepojedou plavat budou ve škole a bude zajištěna výuka. \nTermíny výcviku budou následující (snad již neměnné\, plavecká škola se nám snaží vyjít vstříc a stále nám dohledává termíny v lepším plavacím čase): \n\n2. 5. 2024 (výcvik 9:45 – 11:15 hod)\n9. 5. 2024 (výcvik 9:45 – 11:15 hod)\n30. 5. 2024 – plavecký výcvik v čase 11:20 – 12:50 hod – návrat ve 14:31 hod.\n5. 6. 2024 – (výcvik 8:00 – 9:30 hod).\n20. 6. 2024 – plavecký výcvik 11:20 – 12:50 hod – návrat ve 14:31 hod.\n\nPrvní a druhá vyučovací hodina bude beze změny\, dle rozvrhu. Poté společně odcházíme na vlak (vlak odjíždí v 10:23 hod). Návrat ve 14:31 hod. Žáci\, kteří předloží lísteček s tím\, že mohou odcházet sami\, odchází od vlaku sami. Ostatní se vrací zpět do školní družiny a odchází dle zvyklostí. \nŠkolní svačina bude tyto dny beze změny. Oběd na tento den bude všem žákům\, kteří se zúčastní plaveckého výcviku\, odhlášen. Dejte proto prosím dětem velkou svačinu\, po plavání jsou hladové. Automaty s jídlem v akvaparku nejsou vždy v provozu.   \nPlavecký výcvik i cestovné hradí škola.  \nU žáků\, kteří nemají platnou zdravotní způsobilost\, je nutné tuto do zahájení výcviku dodat. Bez zdravotní způsobilosti nelze výcvik absolvovat. \nS sebou budou žáci potřebovat: \n– plavky (nikoliv bermudy a kraťasy) \n– ručník \n– děvčata (i chlapci s delšími vlasy) plaveckou čepici \n– kdo chce\, může mít plavecké brýle \n– svačinu a pití
URL:https://skola-zadnitreban.cz/akce/plavani-zs-9/
LOCATION:Tipsport Laguna Beroun\, Na Ostrově 900\, Beroun\, Česká republika
CATEGORIES:Akce,Event
ATTACH;FMTTYPE=image/jpeg:https://skola-zadnitreban.cz/wp-content/uploads/2023/09/plavani.jpeg
END:VEVENT
BEGIN:VEVENT
DTSTART;TZID=Europe/Paris:20240619T090000
DTEND;TZID=Europe/Paris:20240619T120000
DTSTAMP:20260420T050105
CREATED:20240304T080644Z
LAST-MODIFIED:20240304T172529Z
UID:4947-1718787600-1718798400@skola-zadnitreban.cz
SUMMARY:Olympijský běh MŠ
DESCRIPTION:Různí běžci\, různá místa\, olympijská myšlenka. To je heslo\, s kterým je propojen T-Mobile Olympijský běh už několik let. Je jedno\, jestli jsi závodník\, nebo běháš jen občas\, jestli jsi malý\, nebo velký\, jestli běháš radši ve městě\, v přírodě\, na louce nebo na dráze. Na T-Mobile Olympijském běhu jde především o to se hýbat a hlavně pro radost. \nNa T-Mobile Olympijském běhu oslavujeme radost z pohybu a sport jako takový. Akcí si totiž připomínáme mezinárodní Olympijský den\, tedy založení Mezinárodního olympijského výboru. T-Mobile Olympijský běh je vůbec největší běžeckou událostí u nás. V jeden den\, přesně v jeden čas vybíhají s živým startem na vlnách Radiožurnálu tisíce běžců po celé České republice– ať už jako součást hlavních závodů nebo ve školách.
URL:https://skola-zadnitreban.cz/akce/olympijsky-beh-ms/
LOCATION:Zadní Třebaň\, Na Návsi\, Zadní Třebaň\, Česká republika
CATEGORIES:Akce,Event
ATTACH;FMTTYPE=image/jpeg:https://skola-zadnitreban.cz/wp-content/uploads/2024/03/logo-OH-beh.jpeg
END:VEVENT
END:VCALENDAR