BEGIN:VCALENDAR
VERSION:2.0
PRODID:-//Základní škola a Mateřská škola Zadní Třebaň - ECPv6.15.2//NONSGML v1.0//EN
CALSCALE:GREGORIAN
METHOD:PUBLISH
X-WR-CALNAME:Základní škola a Mateřská škola Zadní Třebaň
X-ORIGINAL-URL:https://skola-zadnitreban.cz
X-WR-CALDESC:Akce na Základní škola a Mateřská škola Zadní Třebaň
REFRESH-INTERVAL;VALUE=DURATION:PT1H
X-Robots-Tag:noindex
X-PUBLISHED-TTL:PT1H
BEGIN:VTIMEZONE
TZID:Europe/Paris
BEGIN:DAYLIGHT
TZOFFSETFROM:+0100
TZOFFSETTO:+0200
TZNAME:CEST
DTSTART:20260329T010000
END:DAYLIGHT
BEGIN:STANDARD
TZOFFSETFROM:+0200
TZOFFSETTO:+0100
TZNAME:CET
DTSTART:20261025T010000
END:STANDARD
END:VTIMEZONE
BEGIN:VEVENT
DTSTART;TZID=Europe/Paris:20260923T080000
DTEND;TZID=Europe/Paris:20260925T160000
DTSTAMP:20260420T030727
CREATED:20251007T110031Z
LAST-MODIFIED:20251113T102327Z
UID:8344-1790150400-1790352000@skola-zadnitreban.cz
SUMMARY:Adaptační kurz
DESCRIPTION:Adaptační kurz v Plasech u Plzně.
URL:https://skola-zadnitreban.cz/akce/adaptacni-kurz-5/
CATEGORIES:Akce,Event
ATTACH;FMTTYPE=image/jpeg:https://skola-zadnitreban.cz/wp-content/uploads/2025/10/adaptak.jpeg
END:VEVENT
END:VCALENDAR