BEGIN:VCALENDAR
VERSION:2.0
PRODID:-//Základní škola a Mateřská škola Zadní Třebaň - ECPv6.15.2//NONSGML v1.0//EN
CALSCALE:GREGORIAN
METHOD:PUBLISH
X-ORIGINAL-URL:https://skola-zadnitreban.cz
X-WR-CALDESC:Akce na Základní škola a Mateřská škola Zadní Třebaň
REFRESH-INTERVAL;VALUE=DURATION:PT1H
X-Robots-Tag:noindex
X-PUBLISHED-TTL:PT1H
BEGIN:VTIMEZONE
TZID:Europe/Paris
BEGIN:DAYLIGHT
TZOFFSETFROM:+0100
TZOFFSETTO:+0200
TZNAME:CEST
DTSTART:20260329T010000
END:DAYLIGHT
BEGIN:STANDARD
TZOFFSETFROM:+0200
TZOFFSETTO:+0100
TZNAME:CET
DTSTART:20261025T010000
END:STANDARD
END:VTIMEZONE
BEGIN:VEVENT
DTSTART;TZID=Europe/Paris:20260504T070000
DTEND;TZID=Europe/Paris:20260504T120000
DTSTAMP:20260419T193237
CREATED:20260316T095505Z
LAST-MODIFIED:20260317T111948Z
UID:9088-1777878000-1777896000@skola-zadnitreban.cz
SUMMARY:Hasiči Beroun - MŠ + 1. roč
DESCRIPTION:Žáci 1. ročníku a děti z MŠ se 4. května vydají na zajímavou a poučnou návštěvu k profesionálním hasičům v Berouně. Během programu se děti seznámí s prací hasičů\, prohlédnou si hasičskou techniku a uvidí také ukázku zásahu při dopravní nehodě – vyprošťování osob z hořícího automobilu.\nInformace pro děti z MŠ:\nSraz: do 7:00 h v mateřské škole\, do 7:15 h na nádraží\nNávrat: Zpět pojedeme v 11:45 hod. \, tedy děti budou mít lehce posunut oběd a posune se čas vyzvedávání dětí (detailnější informace rodiče obdrží přes Edookit)\n\nS sebou batohy s pitím a pláštěnkou\, svačina bude zajištěna ze ŠJ. \n\nInformace pro žáky 1. roč ZŠ:\nOdjezd: sraz dětí nejpozději v 7:40 h (odjezd vlakem ze Zadní Třebaň v 7:53 h)\nNávrat: zpět vlakem je plánován na 10:45 h\nProsíme rodiče\, aby dětem dali svačinu a pití z domova\, protože školní svačina bude v tento den odhlášena.\n\nVěříme\, že si děti z prvního ročníku tuto zajímavou návštěvu užijí a dozvědí se mnoho nového o důležité práci hasičů.
URL:https://skola-zadnitreban.cz/akce/hasici-beroun-ms-1-roc/
LOCATION:Beroun\, Česká republika
CATEGORIES:Akce,Event
ATTACH;FMTTYPE=image/jpeg:https://skola-zadnitreban.cz/wp-content/uploads/2026/03/hasici.jpg
END:VEVENT
BEGIN:VEVENT
DTSTART;TZID=Europe/Paris:20260513T070000
DTEND;TZID=Europe/Paris:20260513T120000
DTSTAMP:20260419T193237
CREATED:20250826T130713Z
LAST-MODIFIED:20250826T130713Z
UID:8045-1778655600-1778673600@skola-zadnitreban.cz
SUMMARY:Plavání - 1. a 2. roč
DESCRIPTION:Plavecký výcvik je v rámci tělesné výchovy povinný pro žáky 1. a 2. ročníku a probíhá v bazénu v Berouně. \nŽáci ostatních ročníků mají standardní školní výuku. \nTermíny výcviku jsou vždy ve středu a budou následující: \n\n13. 5.\, 20. 5.\, 27. 5.\, 3. 6. a 10. 6. 2026 od 8:00 do 9:30 hodin\n\nŠkolní svačina bude v tyto dny pro dané ročníky odhlášena. Dejte proto prosím dětem velkou svačinu\, po plavání jsou hladové. Automaty s jídlem v akvaparku nejsou vždy v provozu.   \nPlavecký výcvik i cestovné hradí škola. \nU žáků\, kteří nemají platnou zdravotní způsobilost\, je nutné tuto do zahájení výcviku dodat. Bez zdravotní způsobilosti nelze výcvik absolvovat. \nS sebou budou žáci potřebovat: \n– plavky (nikoliv bermudy a kraťasy) \n– ručník \n– děvčata (i chlapci s delšími vlasy) plaveckou čepici \n– kdo chce\, může mít plavecké brýle \n– svačinu a pití
URL:https://skola-zadnitreban.cz/akce/plavani-1-a-2-roc/
LOCATION:Tipsport Laguna Beroun\, Na Ostrově 900\, Beroun\, Česká republika
CATEGORIES:Akce,Event
ATTACH;FMTTYPE=image/jpeg:https://skola-zadnitreban.cz/wp-content/uploads/2023/09/plavani.jpeg
END:VEVENT
BEGIN:VEVENT
DTSTART;TZID=Europe/Paris:20260514T080000
DTEND;TZID=Europe/Paris:20260514T100000
DTSTAMP:20260419T193237
CREATED:20260318T131822Z
LAST-MODIFIED:20260318T131822Z
UID:9100-1778745600-1778752800@skola-zadnitreban.cz
SUMMARY:Testování ČŠI - 5. roč
DESCRIPTION:Naše škola byla zařazena mezi školy\, ve kterých bude provedeno zjišťování výsledků vzdělávání prostřednictvím inspekčního systému elektronického testování InspIS SET. \nZjišťování proběhne u žáků 5. ročníku\, sledovanými oblastmi budou český jazyk a matematika. Cílem zjišťování výsledků vzdělávání bude poskytnout žákům\, jejich rodičům\, učitelům\, ředitelů škol i státu objektivizovanou a relevantní informaci o výsledcích vzdělávání ve sledovaných oblastech.
URL:https://skola-zadnitreban.cz/akce/testovani-csi-5-roc/
CATEGORIES:Akce,Event
ATTACH;FMTTYPE=image/png:https://skola-zadnitreban.cz/wp-content/uploads/2022/11/csi.png
END:VEVENT
BEGIN:VEVENT
DTSTART;TZID=Europe/Paris:20260519T065000
DTEND;TZID=Europe/Paris:20260519T130000
DTSTAMP:20260419T193237
CREATED:20260319T090845Z
LAST-MODIFIED:20260319T090912Z
UID:9113-1779173400-1779195600@skola-zadnitreban.cz
SUMMARY:Exkurze na letiště Praha 2. - 5. roč
DESCRIPTION:Exkurze na letiště: Žáci 2. až 5. ročníku nahlédnou do zákulisí\nNaši žáci se v rámci školní exkurze vydají na největší mezinárodní letiště v České republice\, kde je čeká unikátní program na speciální Trase 2. Během prohlídky vyhlídkovým autobusem prozkoumají neveřejné zóny Jih\, Sever a Cargo\, uvidí zblízka odbavování letadel i jejich navádění na stání. Jedním z největších zážitků bude pozorování startů a přistání přímo u ranveje\, kde budou děti stát jen několik metrů od přistávací dráhy.\nProgram doplní návštěva nejmodernější hasičské záchranné stanice v ČR\, kde se žáci seznámí s unikátní technikou a postupy letištních hasičů. Tato exkurze nabídne dětem nezapomenutelný pohled do světa letectví a záchranné techniky z míst\, kam se běžný cestující nedostane.\n\nDoprava autobusem. Odjezd: od hasičárny v 7:00 hod. – (sraz v 6:50)\, příjezd mezi 12. – 13:00 hod. na oběd\, odpolední vyučování bude.\nExkurze je hrazena z kulturního fondu.
URL:https://skola-zadnitreban.cz/akce/exkurze-na-letiste-praha-2-5-roc/
LOCATION:Praha
CATEGORIES:Akce,Event
ATTACH;FMTTYPE=image/jpeg:https://skola-zadnitreban.cz/wp-content/uploads/2026/03/letiste.jpg
END:VEVENT
BEGIN:VEVENT
DTSTART;TZID=Europe/Paris:20260520T070000
DTEND;TZID=Europe/Paris:20260520T120000
DTSTAMP:20260419T193237
CREATED:20250826T130812Z
LAST-MODIFIED:20250826T130812Z
UID:8047-1779260400-1779278400@skola-zadnitreban.cz
SUMMARY:Plavání - 1. a 2. roč
DESCRIPTION:Plavecký výcvik je v rámci tělesné výchovy povinný pro žáky 1. a 2. ročníku a probíhá v bazénu v Berouně. \nŽáci ostatních ročníků mají standardní školní výuku. \nTermíny výcviku jsou vždy ve středu a budou následující: \n\n13. 5.\, 20. 5.\, 27. 5.\, 3. 6. a 10. 6. 2026 od 8:00 do 9:30 hodin\n\nŠkolní svačina bude v tyto dny pro dané ročníky odhlášena. Dejte proto prosím dětem velkou svačinu\, po plavání jsou hladové. Automaty s jídlem v akvaparku nejsou vždy v provozu.   \nPlavecký výcvik i cestovné hradí škola. \nU žáků\, kteří nemají platnou zdravotní způsobilost\, je nutné tuto do zahájení výcviku dodat. Bez zdravotní způsobilosti nelze výcvik absolvovat. \nS sebou budou žáci potřebovat: \n– plavky (nikoliv bermudy a kraťasy) \n– ručník \n– děvčata (i chlapci s delšími vlasy) plaveckou čepici \n– kdo chce\, může mít plavecké brýle \n– svačinu a pití
URL:https://skola-zadnitreban.cz/akce/plavani-1-a-2-roc-2/
LOCATION:Tipsport Laguna Beroun\, Na Ostrově 900\, Beroun\, Česká republika
CATEGORIES:Akce,Event
ATTACH;FMTTYPE=image/jpeg:https://skola-zadnitreban.cz/wp-content/uploads/2023/09/plavani.jpeg
END:VEVENT
BEGIN:VEVENT
DTSTART;TZID=Europe/Paris:20260527T070000
DTEND;TZID=Europe/Paris:20260527T113000
DTSTAMP:20260419T193237
CREATED:20250826T130901Z
LAST-MODIFIED:20250826T130901Z
UID:8049-1779865200-1779881400@skola-zadnitreban.cz
SUMMARY:Plavání - 1. a 2. roč
DESCRIPTION:Plavecký výcvik je v rámci tělesné výchovy povinný pro žáky 1. a 2. ročníku a probíhá v bazénu v Berouně. \nŽáci ostatních ročníků mají standardní školní výuku. \nTermíny výcviku jsou vždy ve středu a budou následující: \n\n13. 5.\, 20. 5.\, 27. 5.\, 3. 6. a 10. 6. 2026 od 8:00 do 9:30 hodin\n\nŠkolní svačina bude v tyto dny pro dané ročníky odhlášena. Dejte proto prosím dětem velkou svačinu\, po plavání jsou hladové. Automaty s jídlem v akvaparku nejsou vždy v provozu.   \nPlavecký výcvik i cestovné hradí škola. \nU žáků\, kteří nemají platnou zdravotní způsobilost\, je nutné tuto do zahájení výcviku dodat. Bez zdravotní způsobilosti nelze výcvik absolvovat. \nS sebou budou žáci potřebovat: \n– plavky (nikoliv bermudy a kraťasy) \n– ručník \n– děvčata (i chlapci s delšími vlasy) plaveckou čepici \n– kdo chce\, může mít plavecké brýle \n– svačinu a pití
URL:https://skola-zadnitreban.cz/akce/plavani-1-a-2-roc-3/
LOCATION:Tipsport Laguna Beroun\, Na Ostrově 900\, Beroun\, Česká republika
CATEGORIES:Akce,Event
ATTACH;FMTTYPE=image/jpeg:https://skola-zadnitreban.cz/wp-content/uploads/2023/09/plavani.jpeg
END:VEVENT
END:VCALENDAR