BEGIN:VCALENDAR
VERSION:2.0
PRODID:-//Základní škola a Mateřská škola Zadní Třebaň - ECPv6.15.2//NONSGML v1.0//EN
CALSCALE:GREGORIAN
METHOD:PUBLISH
X-ORIGINAL-URL:https://skola-zadnitreban.cz
X-WR-CALDESC:Akce na Základní škola a Mateřská škola Zadní Třebaň
REFRESH-INTERVAL;VALUE=DURATION:PT1H
X-Robots-Tag:noindex
X-PUBLISHED-TTL:PT1H
BEGIN:VTIMEZONE
TZID:Europe/Paris
BEGIN:DAYLIGHT
TZOFFSETFROM:+0100
TZOFFSETTO:+0200
TZNAME:CEST
DTSTART:20260329T010000
END:DAYLIGHT
BEGIN:STANDARD
TZOFFSETFROM:+0200
TZOFFSETTO:+0100
TZNAME:CET
DTSTART:20261025T010000
END:STANDARD
END:VTIMEZONE
BEGIN:VEVENT
DTSTART;TZID=Europe/Paris:20260320T075500
DTEND;TZID=Europe/Paris:20260320T084000
DTSTAMP:20260419T193251
CREATED:20260316T091940Z
LAST-MODIFIED:20260316T091940Z
UID:9079-1773993300-1773996000@skola-zadnitreban.cz
SUMMARY:Matematický klokan
DESCRIPTION:Žáci naší školy budou plnit kategorie Cvrček (2. – 3. třída ZŠ) a Klokánek (4. – 5. třída ZŠ)\, Klokana si vyzkouší také naši prvňáčci. \nMezinárodně koordinovaná soutěž Matematický klokan byla vytvořena podle obdobné soutěže\, která byla v osmdesátých letech minulého století pořádána v Austrálii. Od roku 1991\, kdy se konal první ročník ve Francii\, se rozšířila do zemí Evropy a postupně i na další kontinenty. V roce 2016 se již této soutěže účastnilo přes 6 milionů soutěžících z více než 60 zemí celého světa sdružených v asociaci Kangourou sans frontieres\, jejíž koordinační centrum je v Paříži. V ČR se soutěž Matematický klokan konala poprvé v roce 1995. Pořadatelem Klokana v ČR je Jednota českých matematiků a fyziků ve spolupráci s Katedrou matematiky PdF UP a Katedrou algebry a geometrie PřF UP v Olomouci.
URL:https://skola-zadnitreban.cz/akce/matematicky-klokan-2/
LOCATION:Škola\, Školní 219\, Zadní Třebaň\, Česká republika
CATEGORIES:Akce,Event
ATTACH;FMTTYPE=image/jpeg:https://skola-zadnitreban.cz/wp-content/uploads/2024/03/logo_klokan.jpeg
END:VEVENT
BEGIN:VEVENT
DTSTART;TZID=Europe/Paris:20260320T100000
DTEND;TZID=Europe/Paris:20260320T113000
DTSTAMP:20260419T193251
CREATED:20260316T090640Z
LAST-MODIFIED:20260316T091730Z
UID:9077-1774000800-1774006200@skola-zadnitreban.cz
SUMMARY:Vynášení Morany
DESCRIPTION:
URL:https://skola-zadnitreban.cz/akce/vynaseni-morany-4/
LOCATION:Zadní Třebaň\, Na Návsi\, Zadní Třebaň\, Česká republika
CATEGORIES:Akce,Event
ATTACH;FMTTYPE=image/jpeg:https://skola-zadnitreban.cz/wp-content/uploads/2023/03/Morana_2.jpg
END:VEVENT
BEGIN:VEVENT
DTSTART;TZID=Europe/Paris:20260323T080000
DTEND;TZID=Europe/Paris:20260323T120000
DTSTAMP:20260419T193251
CREATED:20260317T112325Z
LAST-MODIFIED:20260317T112403Z
UID:9092-1774252800-1774267200@skola-zadnitreban.cz
SUMMARY:Jeden svět - 4. a 5. roč
DESCRIPTION:Festival Jeden svět – kino Řevnice\, projekce 9:45 – 11:15\, odchod po 1. vyučovací hodině\, návrat na 5. vyučovací hodinu\, cena 80 Kč (hrazeno z fondu). \n 
URL:https://skola-zadnitreban.cz/akce/jeden-svet-4-a-5-roc/
LOCATION:Řevnice\, kino\, Řevnice\, 252 30\, Česká republika
CATEGORIES:Akce,Event
ATTACH;FMTTYPE=image/png:https://skola-zadnitreban.cz/wp-content/uploads/2026/03/jeden-svet.png
END:VEVENT
BEGIN:VEVENT
DTSTART;TZID=Europe/Paris:20260324T100000
DTEND;TZID=Europe/Paris:20260324T163000
DTSTAMP:20260419T193251
CREATED:20260316T093704Z
LAST-MODIFIED:20260316T093704Z
UID:9081-1774346400-1774369800@skola-zadnitreban.cz
SUMMARY:Zápis do MŠ
DESCRIPTION:Zápis do předškolního vzdělávání
URL:https://skola-zadnitreban.cz/akce/zapis-do-ms/
LOCATION:Škola\, Školní 219\, Zadní Třebaň\, Česká republika
CATEGORIES:Akce,Event
ATTACH;FMTTYPE=image/jpeg:https://skola-zadnitreban.cz/wp-content/uploads/2026/02/zapis-ms.jpg
END:VEVENT
BEGIN:VEVENT
DTSTART;TZID=Europe/Paris:20260326T080000
DTEND;TZID=Europe/Paris:20260327T130000
DTSTAMP:20260419T193251
CREATED:20250929T084215Z
LAST-MODIFIED:20250929T084215Z
UID:8271-1774512000-1774616400@skola-zadnitreban.cz
SUMMARY:Noc s Andersenem
DESCRIPTION:Noc s Andersenem je jednou z akcí\, kterou české knihovny svádí v konkurenci populárnějších médií boj o zájem dětí a dětské čtenářství. Všichni víme\, že dnešní způsob života dětské četbě příliš nepřeje – knihy soupeří s mnoha akčními lákadly od bezduchého vysedání před televizní obrazovkou k počítačový hrám. Tento stav kritizuje široká veřejnost\, nám všem se zdá\, že dnešní děti nečtou. Bylo provedeno mnoho výzkumů dětského čtenářství s alarmujícími výsledky\, ale jen málokterý z nich radí\, jak ze začarovaného kruhu ven. Mnozí odborníci lámou hůl nad rozvojem čtenářských návyků. \nA přitom existuje docela jednoduchá cesta (jak tvrdí známý pražský psycholog dr. V. Mertin) – dát dětem osobní příklad a ukázat jim\, že číst je veliké dobrodružství. V rodině\, kde čtou rodiče\, nemají děti závažné problémy se čtením. Metoda osobního vzoru v předčítání nás vedla k první noci v knihovně v roce 2000\, kdy jsme chtěli zároveň oslavit Mezinárodní den dětské knihy\, který se připomíná každoročně 2.dubna na celém světě v den narození známého dánského pohádkáře. \n——— \nSoučástí programu ve škole bude beseda s paní spisovatelkou\, v pátek plánujeme exkurzi do liteňské knihovny. \nCo bude Váš syn/dcera potřebovat v případě\, že nebude přespávat ve škole: \n\nsvačinu a pití na odpoledne.\n\nCo bude Váš syn/dcera potřebovat v případě\, že bude přespávat ve škole: \n\nspacák + karimatku\,\nhygienické potřeby\,\npřevlečení na druhý den\,\nbaterka\,\nmožno nějaké dobrůtky na večer.
URL:https://skola-zadnitreban.cz/akce/noc-s-andersenem-4/
CATEGORIES:Akce,Event
ATTACH;FMTTYPE=image/jpeg:https://skola-zadnitreban.cz/wp-content/uploads/2023/01/NSA-logo.jpg
END:VEVENT
BEGIN:VEVENT
DTSTART;TZID=Europe/Paris:20260331T090000
DTEND;TZID=Europe/Paris:20260331T120000
DTSTAMP:20260419T193251
CREATED:20260318T120919Z
LAST-MODIFIED:20260318T130330Z
UID:9097-1774947600-1774958400@skola-zadnitreban.cz
SUMMARY:Šest pater prevence 4. a 5. r
DESCRIPTION:K6 – Šest pater prevence: Inovativní dům na Karlštejně propojuje technologie a vzdělávání k prevenci rizikového chování\nKrajské ředitelství policie Středočeského kraje\, ve spolupráci s organizací Bezpečná společnost z.s. a Nadací O2\, oficiálně spustilo unikátní preventivní projekt „K6 – šest pater prevence“. Toto preventivní centrum\, umístěné v budově Obvodního oddělení Policie ČR na Karlštejně\, nabízí jedinečné programy zaměřené na prevenci kriminality\, rizikového chování a závislostí pro všechny generace. \nOdchod: 7: 45 h od školy \nNávrat: návrat na pozdnější oběd – ve 13:15 h (pravděpodobně vlakem ( 12: 56 Karlštejn\, 12: 59 Zadní Třebaň) \nProgram zdarma
URL:https://skola-zadnitreban.cz/akce/sest-pater-prevence-4-a-5-r/
LOCATION:Karlštejn
CATEGORIES:Akce,Event
ATTACH;FMTTYPE=image/webp:https://skola-zadnitreban.cz/wp-content/uploads/2026/03/Image-14-scaled.webp
END:VEVENT
END:VCALENDAR