BEGIN:VCALENDAR
VERSION:2.0
PRODID:-//Základní škola a Mateřská škola Zadní Třebaň - ECPv6.15.2//NONSGML v1.0//EN
CALSCALE:GREGORIAN
METHOD:PUBLISH
X-ORIGINAL-URL:https://skola-zadnitreban.cz
X-WR-CALDESC:Akce na Základní škola a Mateřská škola Zadní Třebaň
REFRESH-INTERVAL;VALUE=DURATION:PT1H
X-Robots-Tag:noindex
X-PUBLISHED-TTL:PT1H
BEGIN:VTIMEZONE
TZID:Europe/Paris
BEGIN:DAYLIGHT
TZOFFSETFROM:+0100
TZOFFSETTO:+0200
TZNAME:CEST
DTSTART:20260329T010000
END:DAYLIGHT
BEGIN:STANDARD
TZOFFSETFROM:+0200
TZOFFSETTO:+0100
TZNAME:CET
DTSTART:20261025T010000
END:STANDARD
END:VTIMEZONE
BEGIN:VEVENT
DTSTART;TZID=Europe/Paris:20260113T080000
DTEND;TZID=Europe/Paris:20260113T114000
DTSTAMP:20260419T231514
CREATED:20251114T103733Z
LAST-MODIFIED:20251118T121145Z
UID:8511-1768291200-1768304400@skola-zadnitreban.cz
SUMMARY:Dopravní výchova 3.-5.r
DESCRIPTION:Teoretická část dopravní výchovy pro žáky 3.\, 4. a 5. ročníku. Akce proběhne ve škole během dopoledního vyučování.
URL:https://skola-zadnitreban.cz/akce/dopravni-vychova-3-5-r/
LOCATION:Škola\, Školní 219\, Zadní Třebaň\, Česká republika
CATEGORIES:Akce,Event
ATTACH;FMTTYPE=image/jpeg:https://skola-zadnitreban.cz/wp-content/uploads/2024/01/dopravni-vychova.jpeg
END:VEVENT
BEGIN:VEVENT
DTSTART;TZID=Europe/Paris:20260117T193000
DTEND;TZID=Europe/Paris:20260118T020000
DTSTAMP:20260419T231514
CREATED:20250826T130100Z
LAST-MODIFIED:20260108T124433Z
UID:8043-1768678200-1768701600@skola-zadnitreban.cz
SUMMARY:Školní ples
DESCRIPTION:TRAVEL SCHOOL AIRLINES let č. ZT2026 \n Milí rodiče\, přátelé školy a všechny dobrodružné duše\, \npřipravte si cestovní pasy\, slavnostní úsměvy a chuť k tanci — v sobotu 17. ledna 2026 startuje\nV. školní ples! \nOd 19:30 hodin probíhá check-in\, přesně ve 20:00 společně vzlétneme na velkolepou Cestu kolem světa. Naše odletová brána se otevře ve Společenském domě v Zadní Třebani\, odkud vyrazíme objevovat krásy\, rytmy i vůně celé planety. \nNa palubě vás přivítá naše posádka – okouzlující letušky a dámy z nejrůznějších koutů světa\, které se postarají o to\, abyste si tento let užili v naprostém pohodlí. Čeká vás předtančení\, tombola\, dámská volenka\, soutěž o kapitánku a kapitána letu a samozřejmě půlnoční překvapení. O hudební doprovod se postará kapela IDEA\, která rozhýbe i ty nejzarytější „ne-tanečníky“. \nVaše palubní vstupenky už jsou na cestě! Spolu s touto pozvánkou Vám posíláme dvě letenky (vstupenky) na náš zájezd kolem světa\, každou v hodnotě 250 Kč. Letenky si můžete ponechat a po dětech v obálce poslat zpět částku\, nebo – pokud se tentokrát na palubu nechystáte – je jednoduše vrátit zpět po svých malých cestovatelích. \nLetenky Vás opravňují k letu do devíti různých destinací: Francie\, Německo\, Česko\, Řecko\, Španělsko\, Vietnam\, Japonsko\, Pobřeží slonoviny\, Indie. Do každé destinace je omezený počet sedadel\, proto s rezervací místa neváhejte – první na check-inu\, první letí! \nDress code necháváme zcela na Vás – můžete dorazit ve večerních šatech\, obleku\, safari klobouku či asijském kimonu. Fantazii se meze nekladou. \nRezervace vstupenek a míst u stolů: \n\nosobně v ředitelně školy\nna e-mailu filova@skola-zadnitreban.cz\nna tel. 732 825 524\n\nVýtěžek z našeho plesu bude použit na pořízení AED defibrilátoru\, který je pro naši školu důležitou součástí bezpečnosti v oblasti první pomoci. Pevně věříme\, že jej nikdy nebudeme muset použít – ale jeho přítomnost může zachránit život. Hodnota takového zařízení se pohybuje přibližně mezi 40 až 50 tisíci korunami. Děkujeme\, že i svou účastí na plese pomáháte vybavit naši školu tímto potřebným přístrojem. \nPokud se rozhodnete přispět darem do tomboly\, prosím předejte jej zaměstnancům školy. \nDěkujeme!
URL:https://skola-zadnitreban.cz/akce/skolni-ples-2/
LOCATION:Společenský dům\, Zadní Třebaň\, Na Návsi 4\, Zadní Třebaň\, Středočeský\, 26729\, Česká republika
CATEGORIES:Akce,Event
ATTACH;FMTTYPE=image/jpeg:https://skola-zadnitreban.cz/wp-content/uploads/2025/11/Skolni-ples-2026-plakat_small-1-e1764769503749.jpg
END:VEVENT
END:VCALENDAR