BEGIN:VCALENDAR
VERSION:2.0
PRODID:-//Základní škola a Mateřská škola Zadní Třebaň - ECPv6.15.2//NONSGML v1.0//EN
CALSCALE:GREGORIAN
METHOD:PUBLISH
X-ORIGINAL-URL:https://skola-zadnitreban.cz
X-WR-CALDESC:Akce na Základní škola a Mateřská škola Zadní Třebaň
REFRESH-INTERVAL;VALUE=DURATION:PT1H
X-Robots-Tag:noindex
X-PUBLISHED-TTL:PT1H
BEGIN:VTIMEZONE
TZID:Europe/Paris
BEGIN:DAYLIGHT
TZOFFSETFROM:+0100
TZOFFSETTO:+0200
TZNAME:CEST
DTSTART:20250330T010000
END:DAYLIGHT
BEGIN:STANDARD
TZOFFSETFROM:+0200
TZOFFSETTO:+0100
TZNAME:CET
DTSTART:20251026T010000
END:STANDARD
END:VTIMEZONE
BEGIN:VEVENT
DTSTART;TZID=Europe/Paris:20251002T090000
DTEND;TZID=Europe/Paris:20251002T100000
DTSTAMP:20260420T050637
CREATED:20250929T055107Z
LAST-MODIFIED:20250930T105142Z
UID:8265-1759395600-1759399200@skola-zadnitreban.cz
SUMMARY:Bruslení ZŠ
DESCRIPTION:V rámci hodin tělesné výchovy proběhnou do konce kalendářního roku 3 lekce bruslení a to vždy ve čtvrtek 2. 10.\, 9. 10. a 16. 10. 2025  na zimním stadionu v Černošicích. \nLekce probíhá od 9:00 do 10:00 h\, pojedeme vlakem ze ZT v 8:00\, odjezd z Černošic 11:08 h. Žáci mají na tento den odhlášenou svačinu. \nSraz: 7:45 na nádraží v ZT\, žáci mají zajištěné lístky školou. \nS sebou: \n\nbrusle – možno zapůjčit na místě – nutno rezervovat u paní uč. Boxanové do předcházejícího úterý do 16:00 hod.\nhelmu\ntlusté nepromokavé rukavice a oblečení na led! \nvelkou svačinu a pití\ndrobné\npeníze na platbu za půjčení bruslí (100\,- Kč) a helmy (50\,-)
URL:https://skola-zadnitreban.cz/akce/brusleni-zs-7/
LOCATION:Černošice
CATEGORIES:Akce,Event
ATTACH;FMTTYPE=image/webp:https://skola-zadnitreban.cz/wp-content/uploads/2023/01/brusleni-e1676887093548.webp
END:VEVENT
BEGIN:VEVENT
DTSTART;TZID=Europe/Paris:20251009T090000
DTEND;TZID=Europe/Paris:20251009T100000
DTSTAMP:20260420T050637
CREATED:20250929T055201Z
LAST-MODIFIED:20250930T105241Z
UID:8267-1760000400-1760004000@skola-zadnitreban.cz
SUMMARY:Bruslení ZŠ
DESCRIPTION:V rámci hodin tělesné výchovy proběhnou do konce kalendářního roku 3 lekce bruslení a to vždy ve čtvrtek 2. 10.\, 9. 10. a 16. 10. 2025  na zimním stadionu v Černošicích. \nLekce probíhá od 9:00 do 10:00 h\, pojedeme vlakem ze ZT v 8:00\, odjezd z Černošic 11:08 h. Žáci mají na tento den odhlášenou svačinu. \nSraz: 7:45 na nádraží v ZT\, žáci mají zajištěné lístky školou. \nS sebou: \n\nbrusle – možno zapůjčit na místě – nutno rezervovat u paní uč. Boxanové do předcházejícího úterý do 16:00 hod.\nhelmu\ntlusté nepromokavé rukavice a oblečení na led! \nvelkou svačinu a pití\ndrobné\npeníze na platbu za půjčení bruslí (100\,- Kč) a helmy (50\,-)
URL:https://skola-zadnitreban.cz/akce/brusleni-zs-8/
LOCATION:Černošice
CATEGORIES:Akce,Event
ATTACH;FMTTYPE=image/webp:https://skola-zadnitreban.cz/wp-content/uploads/2023/01/brusleni-e1676887093548.webp
END:VEVENT
BEGIN:VEVENT
DTSTART;TZID=Europe/Paris:20251016T090000
DTEND;TZID=Europe/Paris:20251016T100000
DTSTAMP:20260420T050637
CREATED:20250929T055301Z
LAST-MODIFIED:20250930T105224Z
UID:8269-1760605200-1760608800@skola-zadnitreban.cz
SUMMARY:Bruslení ZŠ
DESCRIPTION:V rámci hodin tělesné výchovy proběhnou do konce kalendářního roku 3 lekce bruslení a to vždy ve čtvrtek 2. 10.\, 9. 10. a 16. 10. 2025  na zimním stadionu v Černošicích. \nLekce probíhá od 9:00 do 10:00 h\, pojedeme vlakem ze ZT v 8:00\, odjezd z Černošic 11:08 h. Žáci mají na tento den odhlášenou svačinu. \nSraz: 7:45 na nádraží v ZT\, žáci mají zajištěné lístky školou. \nS sebou: \n\nbrusle – možno zapůjčit na místě – nutno rezervovat u paní uč. Boxanové do předcházejícího úterý do 16:00 hod.\nhelmu\ntlusté nepromokavé rukavice a oblečení na led! \nvelkou svačinu a pití\ndrobné\npeníze na platbu za půjčení bruslí (100\,- Kč) a helmy (50\,-)
URL:https://skola-zadnitreban.cz/akce/brusleni-zs-9/
LOCATION:Černošice
CATEGORIES:Akce,Event
ATTACH;FMTTYPE=image/webp:https://skola-zadnitreban.cz/wp-content/uploads/2023/01/brusleni-e1676887093548.webp
END:VEVENT
BEGIN:VEVENT
DTSTART;TZID=Europe/Paris:20251031T080000
DTEND;TZID=Europe/Paris:20251031T113000
DTSTAMP:20260420T050637
CREATED:20251001T112049Z
LAST-MODIFIED:20251001T112049Z
UID:8284-1761897600-1761910200@skola-zadnitreban.cz
SUMMARY:Halloween - ZŠ + MŠ
DESCRIPTION:Mateřská škola – se děti mohou těšit na Halloweenské dopoledne v mateřské škole – děti mohou přijít ve strašidelných kostýmech a těšit se na spoustu her\, soutěží\, čar a kouzel. \nZákladní škola – dopolední výuka bude ve znamení projektů\, které budou tématicky věnované svátku Všech svatých a Památce zesnulých. Podpořte prosím tuto akci tím\, že vaše dítě přijde tento den do školy v tematickém kostýmu  (Halloween\, Día de los muertos).
URL:https://skola-zadnitreban.cz/akce/halloween-zs-ms/
LOCATION:Škola\, Školní 219\, Zadní Třebaň\, Česká republika
CATEGORIES:Akce,Event
ATTACH;FMTTYPE=image/png:https://skola-zadnitreban.cz/wp-content/uploads/2024/10/halloween.png
END:VEVENT
END:VCALENDAR